BEGIN:VCALENDAR
VERSION:2.0
PRODID:-//Squarespace Inc/Squarespace 6//v6//EN
BEGIN:VEVENT
UID:5b87374d0ebbe8d7d0224dbf@squarespace.com
DTSTAMP:20180920T041244Z
DTSTART:20181110T080000Z
DTEND:20181110T093000Z
SUMMARY:Second Film Screening - Disaster Capitalism
GEO:-37.806463;144.966425
LOCATION:New International Book Shop\, 54 Victoria St\, Carlton
END:VEVENT
END:VCALENDAR
