BEGIN:VCALENDAR
VERSION:2.0
PRODID:-//Squarespace Inc/Squarespace 6//v6//EN
BEGIN:VEVENT
UID:5a83ad73f9619a6f380feb9c@squarespace.com
DTSTAMP:20180405T004835Z
DTSTART:20180417T230000Z
DTEND:20180418T010000Z
SUMMARY:Panel: What Should the Australian Greens be on about?
GEO:-37.806463;144.966425
LOCATION:The New International Bookshop\, 54 Victoria Street\, Carlton\, VI
 C\, 3053\, Australia
END:VEVENT
END:VCALENDAR
