BEGIN:VCALENDAR
VERSION:2.0
PRODID:-//Squarespace Inc/Squarespace 6//v6//EN
BEGIN:VEVENT
UID:5aa7150171c10baf62fcf29d@squarespace.com
DTSTAMP:20180313T225328Z
DTSTART:20180320T230000Z
DTEND:20180321T003000Z
SUMMARY:The Wobblies of the World - Lessons from struggles of the past
GEO:-37.806463;144.966425
LOCATION:New International Book Shop\, 54 Victoria Street\, Carlton\, VIC\, 
 3053\, Australia
END:VEVENT
END:VCALENDAR
