BEGIN:VCALENDAR
VERSION:2.0
PRODID:-//Squarespace Inc/Squarespace 6//v6//EN
BEGIN:VEVENT
UID:5aa76d7cec212dd6452e7e82@squarespace.com
DTSTAMP:20180404T021409Z
DTSTART:20180414T230000Z
DTEND:20180415T003000Z
SUMMARY:Indonesia Today: Discontent & the challenge of radical politics
GEO:-37.806463;144.966425
LOCATION:New International Book Shop\, 54 Victoria Street\, Carlton\, VIC\, 
 3053\, Australia
END:VEVENT
END:VCALENDAR
