BEGIN:VCALENDAR
VERSION:2.0
PRODID:-//Squarespace Inc/Squarespace 6//v6//EN
BEGIN:VEVENT
UID:5ac579552b6a2854f5bd78ba@squarespace.com
DTSTAMP:20180420T022833Z
DTSTART:20180525T090000Z
DTEND:20180525T103000Z
SUMMARY:Populism Now!: The Case For Progressive Populism - David McNight
END:VEVENT
END:VCALENDAR
