BEGIN:VCALENDAR
VERSION:2.0
PRODID:-//Squarespace Inc/Squarespace 6//v6//EN
BEGIN:VEVENT
UID:5acee6e0f950b77b26ea00bb@squarespace.com
DTSTAMP:20180429T100507Z
DTSTART:20180504T090000Z
DTEND:20180504T103000Z
SUMMARY:Book Launch - Ariel Salleh - Ecofeminism as Politics Nature\, Marx 
 and the Postmodern
GEO:-37.806463;144.966425
LOCATION:New International Book Shop\, 54 Victoria Street\, Carlton\, VIC\, 
 3053\, Australia
END:VEVENT
END:VCALENDAR
