BEGIN:VCALENDAR
VERSION:2.0
PRODID:-//Squarespace Inc/Squarespace 6//v6//EN
BEGIN:VEVENT
UID:5ac434fc0e2e72d53c1cde0b@squarespace.com
DTSTAMP:20180420T022914Z
DTSTART:20180602T000000Z
DTEND:20180602T070000Z
SUMMARY:Big Red Bookfair 2018
GEO:-37.806463;144.966425
LOCATION:Trades Hall\, 54 Victoria Street\, Carlton\, VIC\, 3053\, Australi
 a
END:VEVENT
END:VCALENDAR
