BEGIN:VCALENDAR
VERSION:2.0
PRODID:-//Squarespace Inc/Squarespace 6//v6//EN
BEGIN:VEVENT
UID:5b5fc8d0f950b7af566bd312@squarespace.com
DTSTAMP:20180731T023039Z
DTSTART:20180828T090000Z
DTEND:20180828T103000Z
SUMMARY:Digital tech for planet and people rather than the already privileg
 ed? 
GEO:40.732832;-73.682239
LOCATION:New International Book Shop\, 54 Victoria Street\, Carlton\, VIC\, 
 3053\, Australia
END:VEVENT
END:VCALENDAR
