BEGIN:VCALENDAR
VERSION:2.0
PRODID:-//Squarespace Inc/Squarespace 6//v6//EN
BEGIN:VEVENT
UID:5b4fe89c6d2a7351621495f7@squarespace.com
DTSTAMP:20180719T035430Z
DTSTART:20180911T090000Z
DTEND:20180911T103000Z
SUMMARY:The Many Socialisms of Ernie Lane
GEO:-37.806463;144.966425
LOCATION:New International Book Shop\, 54 Victoria Street\, Carlton\, VIC\, 
 3053\, Australia
END:VEVENT
END:VCALENDAR
