BEGIN:VCALENDAR
VERSION:2.0
PRODID:-//Squarespace Inc/Squarespace 6//v6//EN
BEGIN:VEVENT
UID:5d79e597774e5f0710c8d079@squarespace.com
DTSTAMP:20190912T063019Z
DTSTART:20191112T080000Z
DTEND:20191112T090000Z
SUMMARY:Airplanes\, the environment and the human condition.
GEO:-37.806463;144.966425
LOCATION:New Int Book Shop\, 54 Victoria Street\, Carlton\, VIC\, 3053\, Au
 stralia
END:VEVENT
END:VCALENDAR
