BEGIN:VCALENDAR
VERSION:2.0
PRODID:-//Squarespace Inc/Squarespace 6//v6//EN
BEGIN:VEVENT
UID:5c47f4ffc2241b77282821c1@squarespace.com
DTSTAMP:20190123T050849Z
DTSTART:20190205T080000Z
DTEND:20190205T093000Z
SUMMARY:Clinton Fernandes on Aus Gov Espionage against East Timor
GEO:-37.80644;144.966411
LOCATION:New International Book Shop\, New International Bookshop\, 54 Vict
 oria Street\, Carlton\, Australia
END:VEVENT
END:VCALENDAR
