BEGIN:VCALENDAR
VERSION:2.0
PRODID:-//Squarespace Inc/Squarespace 6//v6//EN
BEGIN:VEVENT
UID:5c47f5a442bfc1452520f3ee@squarespace.com
DTSTAMP:20190123T050923Z
DTSTART:20190207T080000Z
DTEND:20190207T093000Z
SUMMARY:Modern Money and a Job Guarantee
END:VEVENT
END:VCALENDAR
