BEGIN:VCALENDAR
VERSION:2.0
PRODID:-//Squarespace Inc/Squarespace 6//v6//EN
BEGIN:VEVENT
UID:5c64ce9de4966b57fa68c151@squarespace.com
DTSTAMP:20190214T021432Z
DTSTART:20190320T070000Z
DTEND:20190320T083000Z
SUMMARY:Just Peace: A Timely Roadmap for Australia or Impossible Dream?
GEO:-37.80644;144.966411
LOCATION:New International Book Shop\, New International Bookshop\, 54 Vict
 oria Street\, Carlton
END:VEVENT
END:VCALENDAR
