BEGIN:VCALENDAR
VERSION:2.0
PRODID:-//Squarespace Inc/Squarespace 6//v6//EN
BEGIN:VEVENT
UID:5ccf92fbeb3931597f9975ae@squarespace.com
DTSTAMP:20190506T015318Z
DTSTART:20190524T090000Z
DTEND:20190524T100000Z
SUMMARY:The Good University What universities actually do and why it’s time 
 for radical change
GEO:-37.806463;144.966425
LOCATION:The New International Book Shop\, 54 Victoria Street\, Carlton\, V
 IC\, 3053\, Australia
END:VEVENT
END:VCALENDAR
