BEGIN:VCALENDAR
VERSION:2.0
PRODID:-//Squarespace Inc/Squarespace 6//v6//EN
BEGIN:VEVENT
UID:5e27cb322ce8b504391ea7cb@squarespace.com
DTSTAMP:20200122T043230Z
DTSTART:20200303T080000Z
DTEND:20200303T090000Z
SUMMARY:Stories of courage and sacrifice from Christmas Island
GEO:-37.806463;144.966425
LOCATION:New Int Book Shop\, 54 Victoria Street\, Carlton\, VIC\, 3053\, Au
 stralia
END:VEVENT
END:VCALENDAR
