BEGIN:VCALENDAR
VERSION:2.0
PRODID:-//Squarespace Inc/Squarespace 6//v6//EN
BEGIN:VEVENT
UID:5cc69707c8302560fa3d4c1e@squarespace.com
DTSTAMP:20190429T062243Z
DTSTART:20190514T090000Z
DTEND:20190514T110000Z
SUMMARY:Underground Docos @ NIBS: The Pruitt-Igoe Myth
GEO:-37.80644;144.966411
LOCATION:The New International Bookshop
END:VEVENT
END:VCALENDAR
