BEGIN:VCALENDAR
VERSION:2.0
PRODID:-//Squarespace Inc/Squarespace 6//v6//EN
BEGIN:VEVENT
UID:5d3beb67a6cf2d0001793fd4@squarespace.com
DTSTAMP:20190727T061756Z
DTSTART:20190806T090000Z
DTEND:20190806T110000Z
SUMMARY:Underground Docos @ NIBS: We Don't Need a Map
GEO:-37.80644;144.966411
LOCATION:New International Book Shop\, New International Bookshop\, 54 Vict
 oria Street\, Carlton\, Australia
END:VEVENT
END:VCALENDAR
